BEGIN:VCALENDAR
VERSION:2.0
PRODID:-//ChamberMaster//Event Calendar 2.0//EN
METHOD:PUBLISH
X-PUBLISHED-TTL:P3D
REFRESH-INTERVAL:P3D
CALSCALE:GREGORIAN
BEGIN:VEVENT
DTSTART:20090803T120000Z
DTEND:20090803T150000Z
X-MICROSOFT-CDO-ALLDAYEVENT:FALSE
SUMMARY:2009 Golf August 3rd 2009
DESCRIPTION:
X-ALT-DESC;FMTTYPE=text/html:
LOCATION:Joliet Country Club
UID:e.2207.603
SEQUENCE:3
DTSTAMP:20260423T225933Z
URL:http://jolietchamberdev.chambermaster.com/events/details/2009-golf-august-3rd-2009-08-03-2009-603
END:VEVENT

END:VCALENDAR
