BEGIN:VCALENDAR
VERSION:2.0
PRODID:-//ChamberMaster//Event Calendar 2.0//EN
METHOD:PUBLISH
X-PUBLISHED-TTL:P3D
REFRESH-INTERVAL:P3D
CALSCALE:GREGORIAN
BEGIN:VEVENT
DTSTART:20090130T060000Z
DTEND:20090130T060000Z
X-MICROSOFT-CDO-ALLDAYEVENT:FALSE
SUMMARY:Greeter January 2009
DESCRIPTION:
X-ALT-DESC;FMTTYPE=text/html:
LOCATION:
UID:e.2207.588
SEQUENCE:3
DTSTAMP:20260425T131413Z
URL:http://jolietchamberdev.chambermaster.com/events/details/greeter-january-2009-01-30-2009-588
END:VEVENT

END:VCALENDAR
