BEGIN:VCALENDAR
VERSION:2.0
PRODID:-//ChamberMaster//Event Calendar 2.0//EN
METHOD:PUBLISH
X-PUBLISHED-TTL:P3D
REFRESH-INTERVAL:P3D
CALSCALE:GREGORIAN
BEGIN:VEVENT
DTSTART:20100101T140000Z
DTEND:20100101T224300Z
X-MICROSOFT-CDO-ALLDAYEVENT:FALSE
SUMMARY:Greeter January 2010
DESCRIPTION:
X-ALT-DESC;FMTTYPE=text/html:
LOCATION:
UID:e.2207.653
SEQUENCE:3
DTSTAMP:20260420T160622Z
URL:http://jolietchamberdev.chambermaster.com/events/details/greeter-january-2010-01-01-2010-653
END:VEVENT

END:VCALENDAR
