BEGIN:VCALENDAR
VERSION:2.0
PRODID:-//ChamberMaster//Event Calendar 2.0//EN
METHOD:PUBLISH
X-PUBLISHED-TTL:P3D
REFRESH-INTERVAL:P3D
CALSCALE:GREGORIAN
BEGIN:VEVENT
DTSTART:20090501T130000Z
DTEND:20090501T213000Z
X-MICROSOFT-CDO-ALLDAYEVENT:FALSE
SUMMARY:Greeter May 2009
DESCRIPTION:
X-ALT-DESC;FMTTYPE=text/html:
LOCATION:
UID:e.2207.608
SEQUENCE:3
DTSTAMP:20260423T073222Z
URL:http://jolietchamberdev.chambermaster.com/events/details/greeter-may-2009-05-01-2009-608
END:VEVENT

END:VCALENDAR
