BEGIN:VCALENDAR
VERSION:2.0
PRODID:-//ChamberMaster//Event Calendar 2.0//EN
METHOD:PUBLISH
X-PUBLISHED-TTL:P3D
REFRESH-INTERVAL:P3D
CALSCALE:GREGORIAN
BEGIN:VEVENT
DTSTART:20260326T223000Z
DTEND:20260327T000000Z
X-MICROSOFT-CDO-ALLDAYEVENT:FALSE
SUMMARY:Swing into Spring Mortgage Event
DESCRIPTION:Join us to talk about your homebuying plans.  Or bring along a client or friend who could benefit from a discussion about homebuying.  Attendees will be entered into a raffle for Joliet Slammers tickets.
X-ALT-DESC;FMTTYPE=text/html:Join us to talk about your homebuying plans.&nbsp\; Or bring along a client or friend who could benefit from a discussion about homebuying.&nbsp\; Attendees will be entered into a raffle for Joliet Slammers tickets.&nbsp\;&nbsp\;
LOCATION:Westminster Presbyterian Church Fellowship Hall 1015 Winthrop Ave. Joliet\, IL
UID:e.2207.7810
SEQUENCE:3
DTSTAMP:20260424T171105Z
URL:http://jolietchamberdev.chambermaster.com/events/details/swing-into-spring-mortgage-event-7810
END:VEVENT

END:VCALENDAR
